BEGIN:VCALENDAR
VERSION:2.0
PRODID:-//Holmes à Court Gallery - ECPv6.15.20//NONSGML v1.0//EN
CALSCALE:GREGORIAN
METHOD:PUBLISH
X-WR-CALNAME:Holmes à Court Gallery
X-ORIGINAL-URL:https://www.holmesacourtgallery.com.au
X-WR-CALDESC:Events for Holmes à Court Gallery
REFRESH-INTERVAL;VALUE=DURATION:PT1H
X-Robots-Tag:noindex
X-PUBLISHED-TTL:PT1H
BEGIN:VTIMEZONE
TZID:Australia/Perth
BEGIN:STANDARD
TZOFFSETFROM:+0800
TZOFFSETTO:+0800
TZNAME:AWST
DTSTART:20230101T000000
END:STANDARD
END:VTIMEZONE
BEGIN:VEVENT
DTSTART;TZID=Australia/Perth:20241019T110000
DTEND;TZID=Australia/Perth:20241019T120000
DTSTAMP:20260424T212359
CREATED:20241011T053134Z
LAST-MODIFIED:20241011T101658Z
UID:10000070-1729335600-1729339200@www.holmesacourtgallery.com.au
SUMMARY:IOTA24 Exhibition Closing - Curator Panel
DESCRIPTION:Join Holmes à Court Gallery curator Laetitia Wilson\, IOTA Co-curator and Co-founder Carola Akindele-Obe and artist and IOTA Co-founder Maggie Baxter as they discuss the coming together of IOTA24 and the theme of this year’s triennial  – Codes in Parallel – within the exhibition on its final day. \n\n\n\n*FREE EVENT* \n\n\n\n\nREGISTER\n\n\n\n\n \n\n\n\n \n\n\n\nIMAGE: Maggie Baxter\, Red-Act\, 2024\, courtesy and copyright of the artist
URL:https://www.holmesacourtgallery.com.au/event/iota24-exhibition-closing-curator-panel/
LOCATION:WA
CATEGORIES:Artist Talks
ATTACH;FMTTYPE=image/jpeg:https://www.holmesacourtgallery.com.au/wp-content/uploads/sites/3/2024/10/Pic_Maggie-Baxter-Red-Act-2024-copy-1.jpg
END:VEVENT
END:VCALENDAR