BEGIN:VCALENDAR
VERSION:2.0
PRODID:-//Holmes à Court Gallery - ECPv6.15.20//NONSGML v1.0//EN
CALSCALE:GREGORIAN
METHOD:PUBLISH
X-ORIGINAL-URL:https://www.holmesacourtgallery.com.au
X-WR-CALDESC:Events for Holmes à Court Gallery
REFRESH-INTERVAL;VALUE=DURATION:PT1H
X-Robots-Tag:noindex
X-PUBLISHED-TTL:PT1H
BEGIN:VTIMEZONE
TZID:Australia/Perth
BEGIN:STANDARD
TZOFFSETFROM:+0800
TZOFFSETTO:+0800
TZNAME:AWST
DTSTART:20230101T000000
END:STANDARD
END:VTIMEZONE
BEGIN:VEVENT
DTSTART;TZID=Australia/Perth:20240204T173000
DTEND;TZID=Australia/Perth:20240204T184500
DTSTAMP:20260422T032400
CREATED:20240101T065521Z
LAST-MODIFIED:20240125T062409Z
UID:10000048-1707067800-1707072300@www.holmesacourtgallery.com.au
SUMMARY:Portent (a ritual)
DESCRIPTION:PERFORMANCES: 4 February\, 5.30pm & 8.00pm \n\n\n\nThis is a new musical work by Ad Lib Collective featuring Wind Up Bird\, in collaboration with Andrew Nicholls. \n\n\n\nThroughout human history solar eclipses have been viewed as omens of pending disaster. Inspired by the 2023 total solar eclipse in Exmouth Western Australia\, celebrated contemporary artist Andrew Nicholls has conceived a suite of visual art works speculating about the disaster that this particular eclipse may have been foretelling. \n\n\n\nYou are invited to join us at Holmes à Court Gallery @ no.10 for the world premiere of a musical work commissioned by the artist from acclaimed contemporary classical ensembles Ad Lib Collective and Wind Up Bird. Mimicking the timing of the Exmouth eclipse\, audiences will experience a sense of the drama and beauty of this extraordinary solar event\, with its frenetic build-up of energy\, and the uncanny awe of the ‘moment of totality’.  \n\n\n\nPart sonic performance experience and part-magickal ritual\, Portent (a ritual) represents a unique collaboration of creative disciplines spanning the visual and performing arts. \n\n\n\nAudiences are then invited to return to Holmes à Court Gallery @ no. 10 on Wednesday\, 7 February for the official launch of the Portent exhibition\, as part of the 2024 Perth Festival which features the recording of this live performance. \n\n\n\nEnsemble  \n\n\n\nAd Lib Collective: Thea Rossen (Percussion)\, Ashley Smith (Clarinets) \n\n\n\nWind Up Bird: James Ledger (Synths)\, Josiah Padmanabhan (Synths)  \n\n\n\nLighting: Alex Spartalis GSD \n\n\n\nDATE & TIMES : Sunday\, 4 February 2024 \n\n\n\nPerformance #1 \n\n\n\n5.30pm  //  doors and bar open – sound installation   \n\n\n\n6.00 – 6:45pm  //  performance  \n\n\n\nPerformance #2 \n\n\n\n8.00pm  //  doors and bar open – sound installation \n\n\n\n8.30pm – 9:15pm  //  performance \n\n\n\nEVENT ENQUIRIES: Laetitia Wilson | +61 424 931 242  :  laetitia.wilson@heytesbury.com.au \n\n\n\nTICKETS  :  $35.00 concession; $40.00 full price + BF / performance
URL:https://www.holmesacourtgallery.com.au/event/portent-a-ritual/
LOCATION:Holmes à Court Gallery @ no. 10\, 10 Douglas St\, West Perth\, WA\, 6005\, Australia
CATEGORIES:Music Event
ATTACH;FMTTYPE=image/jpeg:https://www.holmesacourtgallery.com.au/wp-content/uploads/sites/3/2023/11/Pic_Portent-copy-2.jpg
END:VEVENT
BEGIN:VEVENT
DTSTART;TZID=Australia/Perth:20240204T200000
DTEND;TZID=Australia/Perth:20240204T211500
DTSTAMP:20260422T032400
CREATED:20240209T010446Z
LAST-MODIFIED:20240209T010455Z
UID:10000049-1707076800-1707081300@www.holmesacourtgallery.com.au
SUMMARY:Portent (a ritual)
DESCRIPTION:PERFORMANCES: 4 February\, 5.30pm & 8.00pm \n\n\n\nThis is a new musical work by Ad Lib Collective featuring Wind Up Bird\, in collaboration with Andrew Nicholls. \n\n\n\nThroughout human history solar eclipses have been viewed as omens of pending disaster. Inspired by the 2023 total solar eclipse in Exmouth Western Australia\, celebrated contemporary artist Andrew Nicholls has conceived a suite of visual art works speculating about the disaster that this particular eclipse may have been foretelling. \n\n\n\nYou are invited to join us at Holmes à Court Gallery @ no.10 for the world premiere of a musical work commissioned by the artist from acclaimed contemporary classical ensembles Ad Lib Collective and Wind Up Bird. Mimicking the timing of the Exmouth eclipse\, audiences will experience a sense of the drama and beauty of this extraordinary solar event\, with its frenetic build-up of energy\, and the uncanny awe of the ‘moment of totality’.  \n\n\n\nPart sonic performance experience and part-magickal ritual\, Portent (a ritual) represents a unique collaboration of creative disciplines spanning the visual and performing arts. \n\n\n\nAudiences are then invited to return to Holmes à Court Gallery @ no. 10 on Wednesday\, 7 February for the official launch of the Portent exhibition\, as part of the 2024 Perth Festival which features the recording of this live performance. \n\n\n\nEnsemble  \n\n\n\nAd Lib Collective: Thea Rossen (Percussion)\, Ashley Smith (Clarinets) \n\n\n\nWind Up Bird: James Ledger (Synths)\, Josiah Padmanabhan (Synths)  \n\n\n\nLighting: Alex Spartalis GSD \n\n\n\n\n\n\n\n\n\n\n\n\n\n\n\n\n\nPortent (a Ritual). Photographs by Dan McBride \n\n\n\nDATE & TIMES : Sunday\, 4 February 2024 \n\n\n\nPerformance #1 \n\n\n\n5.30pm  //  doors and bar open – sound installation   \n\n\n\n6.00 – 6:45pm  //  performance  \n\n\n\nPerformance #2 \n\n\n\n8.00pm  //  doors and bar open – sound installation \n\n\n\n8.30pm – 9:15pm  //  performance \n\n\n\nEVENT ENQUIRIES: Laetitia Wilson | +61 424 931 242  :  laetitia.wilson@heytesbury.com.au \n\n\n\nTICKETS  :  $35.00 concession; $40.00 full price + BF / performance
URL:https://www.holmesacourtgallery.com.au/event/portent-a-ritual-2/
LOCATION:Holmes à Court Gallery @ no. 10\, 10 Douglas St\, West Perth\, WA\, 6005\, Australia
CATEGORIES:Music Event
ATTACH;FMTTYPE=image/jpeg:https://www.holmesacourtgallery.com.au/wp-content/uploads/sites/3/2023/11/Pic_Portent-copy-2.jpg
END:VEVENT
BEGIN:VEVENT
DTSTART;TZID=Australia/Perth:20240224T140000
DTEND;TZID=Australia/Perth:20240224T150000
DTSTAMP:20260422T032400
CREATED:20240221T032505Z
LAST-MODIFIED:20240221T032512Z
UID:10000050-1708783200-1708786800@www.holmesacourtgallery.com.au
SUMMARY:ARTIST TALK // Andrew Nicholls with Thea Rossen
DESCRIPTION:Join us to hear from Andrew Nicholls and collaborator Thea Rossen from Ad Lib Collective\, about their exhibition\, Portent\, as part of the 2024 Perth Festival themed Ngaangk (‘The Sun’). \n\n\n\nThis exhibition draws on eclipse lore to focus on how solar eclipses have been perceived as omens of pending disaster over time\, in different places\, cultures\, beliefs and in mythology. Become immersed in a changing light and sound spectrum as Andrew takes us through the ideas behind the artwork in the show\, and he and Thea discuss their cross-disciplinary collaboration\, and interpreting the 2023 Exmouth Eclipse through music. \n\n\n\nLink to RSVP: https://events.humanitix.com/artist-talk-andrew-nicholls \n\n\n\n\n\n\n\n\n\n\n\n\n\nimages: \n\n\n\nAndrew Nicholls with Leigh Craft\, Sigillum dei Aemeth (ritual space)\, 2024\, photograph by Sohan Ariel Hayes \n\n\n\nDocumentation of Portent (a ritual)\, Sunday 4th February 2024\, photograph by Dan McBride
URL:https://www.holmesacourtgallery.com.au/event/artist-talk-andrew-nicholls-with-thea-rossen/
LOCATION:WA
CATEGORIES:Artist Talks
END:VEVENT
END:VCALENDAR