BEGIN:VCALENDAR
VERSION:2.0
PRODID:-//Holmes à Court Gallery - ECPv6.15.20//NONSGML v1.0//EN
CALSCALE:GREGORIAN
METHOD:PUBLISH
X-WR-CALNAME:Holmes à Court Gallery
X-ORIGINAL-URL:https://www.holmesacourtgallery.com.au
X-WR-CALDESC:Events for Holmes à Court Gallery
REFRESH-INTERVAL;VALUE=DURATION:PT1H
X-Robots-Tag:noindex
X-PUBLISHED-TTL:PT1H
BEGIN:VTIMEZONE
TZID:Australia/Perth
BEGIN:STANDARD
TZOFFSETFROM:+0800
TZOFFSETTO:+0800
TZNAME:AWST
DTSTART:20230101T000000
END:STANDARD
END:VTIMEZONE
BEGIN:VEVENT
DTSTART;TZID=Australia/Perth:20240118T193000
DTEND;TZID=Australia/Perth:20240118T202000
DTSTAMP:20260422T013906
CREATED:20231207T011244Z
LAST-MODIFIED:20231213T020001Z
UID:10000045-1705606200-1705609200@www.holmesacourtgallery.com.au
SUMMARY:Terra
DESCRIPTION:PERFORMANCE DATES : 18\, 19 & 20 JANUARY 2024 \n\n\n\nterra is a 50min dance work informed by the knowledge of current and impending ecological loss. An un-trackable choreographic momentum evokes the incremental movement of earth’s tectonic plates; the elemental power of the natural world pushed to its limits and the forces that create change.  \n\n\n\nErupting from an imagination placed under pressure for decades\, terra\, invites us to feel what is happening to the earth\, whilst creating something of awe and beauty. With each performance\, a unique topographical sculptural residue remains\, inviting the audience to continue their imaginative engagement with the work. \n\n\n\nThis piece emerged conceptually and choreographically from Alice’s experience of living in Victoria\, through the pandemic\, fires\, flooding\, threatening winds and an earthquake –disquiet was omnipresent. The resurgence of the natural world during the lockdowns\, particularly in urban spaces\, brought an acute awareness of human impact on our living world. \n\n\n\n‘She moved with the kind of felt precision that could change the meaning of the space around her. She touched the floor and suddenly it was alive. The experience was pure and electrifying’ (Erik Jensen\, Editor-in-chief\, Schwartz Media\,  January 2022). \n\n\n\nABOUT ALICE CUMMINS \n\n\n\nAlice Cummins is a multi-disciplinary artist\, working in dance\, film\, performance and installation. Five decades exploring the nuanced intelligence of the moving body\, interrogating and challenging its social and cultural narratives\, have led to compositional refinement and the distillation of experience into physical performance where aesthetics\, ethics and physiology collide. Her current performance projects reflect the entwinement of personal/artistic\, colonial\, and planetary histories. \n\n\n\nEVENT ENQUIRIES: Laetitia Wilson | +61 424 931 242  :  laetitia.wilson@heytesbury.com.au \n\n\n\nSTART TIME  :  7.30pm – duration 50min \n\n\n\nTICKETS : $25-$35 + booking fee \n\n\n\n\n\n  \n\n\n\nhttp://www.alicecummins.com \n\n\n\nPhoto by Emma Fishwick\, Alice Cummins in Terra Rehearsal\, 2023\, courtesy and copyright of the artist.
URL:https://www.holmesacourtgallery.com.au/event/terra/2024-01-18/
LOCATION:Holmes à Court Gallery @ no. 10\, 10 Douglas St\, West Perth\, WA\, 6005\, Australia
CATEGORIES:Dance Performance
ATTACH;FMTTYPE=image/jpeg:https://www.holmesacourtgallery.com.au/wp-content/uploads/sites/3/2023/12/HERO-image-Terra.jpg
END:VEVENT
BEGIN:VEVENT
DTSTART;TZID=Australia/Perth:20240119T193000
DTEND;TZID=Australia/Perth:20240119T202000
DTSTAMP:20260422T013906
CREATED:20231207T011244Z
LAST-MODIFIED:20231213T020001Z
UID:10000046-1705692600-1705695600@www.holmesacourtgallery.com.au
SUMMARY:Terra
DESCRIPTION:PERFORMANCE DATES : 18\, 19 & 20 JANUARY 2024 \n\n\n\nterra is a 50min dance work informed by the knowledge of current and impending ecological loss. An un-trackable choreographic momentum evokes the incremental movement of earth’s tectonic plates; the elemental power of the natural world pushed to its limits and the forces that create change.  \n\n\n\nErupting from an imagination placed under pressure for decades\, terra\, invites us to feel what is happening to the earth\, whilst creating something of awe and beauty. With each performance\, a unique topographical sculptural residue remains\, inviting the audience to continue their imaginative engagement with the work. \n\n\n\nThis piece emerged conceptually and choreographically from Alice’s experience of living in Victoria\, through the pandemic\, fires\, flooding\, threatening winds and an earthquake –disquiet was omnipresent. The resurgence of the natural world during the lockdowns\, particularly in urban spaces\, brought an acute awareness of human impact on our living world. \n\n\n\n‘She moved with the kind of felt precision that could change the meaning of the space around her. She touched the floor and suddenly it was alive. The experience was pure and electrifying’ (Erik Jensen\, Editor-in-chief\, Schwartz Media\,  January 2022). \n\n\n\nABOUT ALICE CUMMINS \n\n\n\nAlice Cummins is a multi-disciplinary artist\, working in dance\, film\, performance and installation. Five decades exploring the nuanced intelligence of the moving body\, interrogating and challenging its social and cultural narratives\, have led to compositional refinement and the distillation of experience into physical performance where aesthetics\, ethics and physiology collide. Her current performance projects reflect the entwinement of personal/artistic\, colonial\, and planetary histories. \n\n\n\nEVENT ENQUIRIES: Laetitia Wilson | +61 424 931 242  :  laetitia.wilson@heytesbury.com.au \n\n\n\nSTART TIME  :  7.30pm – duration 50min \n\n\n\nTICKETS : $25-$35 + booking fee \n\n\n\n\n\n  \n\n\n\nhttp://www.alicecummins.com \n\n\n\nPhoto by Emma Fishwick\, Alice Cummins in Terra Rehearsal\, 2023\, courtesy and copyright of the artist.
URL:https://www.holmesacourtgallery.com.au/event/terra/2024-01-19/
LOCATION:Holmes à Court Gallery @ no. 10\, 10 Douglas St\, West Perth\, WA\, 6005\, Australia
CATEGORIES:Dance Performance
ATTACH;FMTTYPE=image/jpeg:https://www.holmesacourtgallery.com.au/wp-content/uploads/sites/3/2023/12/HERO-image-Terra.jpg
END:VEVENT
BEGIN:VEVENT
DTSTART;TZID=Australia/Perth:20240120T193000
DTEND;TZID=Australia/Perth:20240120T202000
DTSTAMP:20260422T013906
CREATED:20231207T011244Z
LAST-MODIFIED:20231213T020001Z
UID:10000047-1705779000-1705782000@www.holmesacourtgallery.com.au
SUMMARY:Terra
DESCRIPTION:PERFORMANCE DATES : 18\, 19 & 20 JANUARY 2024 \n\n\n\nterra is a 50min dance work informed by the knowledge of current and impending ecological loss. An un-trackable choreographic momentum evokes the incremental movement of earth’s tectonic plates; the elemental power of the natural world pushed to its limits and the forces that create change.  \n\n\n\nErupting from an imagination placed under pressure for decades\, terra\, invites us to feel what is happening to the earth\, whilst creating something of awe and beauty. With each performance\, a unique topographical sculptural residue remains\, inviting the audience to continue their imaginative engagement with the work. \n\n\n\nThis piece emerged conceptually and choreographically from Alice’s experience of living in Victoria\, through the pandemic\, fires\, flooding\, threatening winds and an earthquake –disquiet was omnipresent. The resurgence of the natural world during the lockdowns\, particularly in urban spaces\, brought an acute awareness of human impact on our living world. \n\n\n\n‘She moved with the kind of felt precision that could change the meaning of the space around her. She touched the floor and suddenly it was alive. The experience was pure and electrifying’ (Erik Jensen\, Editor-in-chief\, Schwartz Media\,  January 2022). \n\n\n\nABOUT ALICE CUMMINS \n\n\n\nAlice Cummins is a multi-disciplinary artist\, working in dance\, film\, performance and installation. Five decades exploring the nuanced intelligence of the moving body\, interrogating and challenging its social and cultural narratives\, have led to compositional refinement and the distillation of experience into physical performance where aesthetics\, ethics and physiology collide. Her current performance projects reflect the entwinement of personal/artistic\, colonial\, and planetary histories. \n\n\n\nEVENT ENQUIRIES: Laetitia Wilson | +61 424 931 242  :  laetitia.wilson@heytesbury.com.au \n\n\n\nSTART TIME  :  7.30pm – duration 50min \n\n\n\nTICKETS : $25-$35 + booking fee \n\n\n\n\n\n  \n\n\n\nhttp://www.alicecummins.com \n\n\n\nPhoto by Emma Fishwick\, Alice Cummins in Terra Rehearsal\, 2023\, courtesy and copyright of the artist.
URL:https://www.holmesacourtgallery.com.au/event/terra/2024-01-20/
LOCATION:Holmes à Court Gallery @ no. 10\, 10 Douglas St\, West Perth\, WA\, 6005\, Australia
CATEGORIES:Dance Performance
ATTACH;FMTTYPE=image/jpeg:https://www.holmesacourtgallery.com.au/wp-content/uploads/sites/3/2023/12/HERO-image-Terra.jpg
END:VEVENT
END:VCALENDAR